BEGIN:VCALENDAR
VERSION:2.0
PRODID:-//Centro Comprensivo de Cáncer de la Universidad de Puerto - ECPv6.2.9//NONSGML v1.0//EN
CALSCALE:GREGORIAN
METHOD:PUBLISH
X-ORIGINAL-URL:https://www.cccupr.org
X-WR-CALDESC:Events for Centro Comprensivo de Cáncer de la Universidad de Puerto
REFRESH-INTERVAL;VALUE=DURATION:PT1H
X-Robots-Tag:noindex
X-PUBLISHED-TTL:PT1H
BEGIN:VTIMEZONE
TZID:America/Puerto_Rico
BEGIN:STANDARD
TZOFFSETFROM:-0400
TZOFFSETTO:-0400
TZNAME:AST
DTSTART:20220101T000000
END:STANDARD
END:VTIMEZONE
BEGIN:VEVENT
DTSTART;TZID=America/Puerto_Rico:20220304T090000
DTEND;TZID=America/Puerto_Rico:20220304T140000
DTSTAMP:20260423T094648
CREATED:20220301T184412Z
LAST-MODIFIED:20220301T184412Z
UID:11359-1646384400-1646402400@www.cccupr.org
SUMMARY:Clínica de Vacunación de Influenza de Temporada 2021-2022
DESCRIPTION:
URL:https://www.cccupr.org/calendario-de-actividades/clinica-de-vacunacion-de-influenza-de-temporada-2021-2022/
END:VEVENT
END:VCALENDAR