BEGIN:VCALENDAR
VERSION:2.0
PRODID:-//Centro Comprensivo de Cáncer de la Universidad de Puerto - ECPv6.2.9//NONSGML v1.0//EN
CALSCALE:GREGORIAN
METHOD:PUBLISH
X-WR-CALNAME:Centro Comprensivo de Cáncer de la Universidad de Puerto
X-ORIGINAL-URL:https://www.cccupr.org
X-WR-CALDESC:Events for Centro Comprensivo de Cáncer de la Universidad de Puerto
REFRESH-INTERVAL;VALUE=DURATION:PT1H
X-Robots-Tag:noindex
X-PUBLISHED-TTL:PT1H
BEGIN:VTIMEZONE
TZID:America/Puerto_Rico
BEGIN:STANDARD
TZOFFSETFROM:-0400
TZOFFSETTO:-0400
TZNAME:AST
DTSTART:20220101T000000
END:STANDARD
END:VTIMEZONE
BEGIN:VEVENT
DTSTART;TZID=America/Puerto_Rico:20221019T100000
DTEND;TZID=America/Puerto_Rico:20221019T120000
DTSTAMP:20260423T083055
CREATED:20221006T210650Z
LAST-MODIFIED:20221011T202230Z
UID:13995-1666173600-1666180800@www.cccupr.org
SUMMARY:Charla: Los Secretos de los Pacientes Felices con Lilly Garcia
DESCRIPTION:
URL:https://www.cccupr.org/calendario-de-actividades/charla-los-secretos-de-los-pacientes-felices-con-lilly-garcia/
LOCATION:Piso 9- Hospital CCCUPR
END:VEVENT
END:VCALENDAR