BEGIN:VCALENDAR
VERSION:2.0
PRODID:-//Centro Comprensivo de Cáncer de la Universidad de Puerto - ECPv6.2.9//NONSGML v1.0//EN
CALSCALE:GREGORIAN
METHOD:PUBLISH
X-WR-CALNAME:Centro Comprensivo de Cáncer de la Universidad de Puerto
X-ORIGINAL-URL:https://www.cccupr.org
X-WR-CALDESC:Events for Centro Comprensivo de Cáncer de la Universidad de Puerto
REFRESH-INTERVAL;VALUE=DURATION:PT1H
X-Robots-Tag:noindex
X-PUBLISHED-TTL:PT1H
BEGIN:VTIMEZONE
TZID:America/Puerto_Rico
BEGIN:STANDARD
TZOFFSETFROM:-0400
TZOFFSETTO:-0400
TZNAME:AST
DTSTART:20230101T000000
END:STANDARD
END:VTIMEZONE
BEGIN:VEVENT
DTSTART;TZID=America/Puerto_Rico:20230412T143000
DTEND;TZID=America/Puerto_Rico:20230412T150000
DTSTAMP:20260423T132301
CREATED:20230410T193640Z
LAST-MODIFIED:20230410T193827Z
UID:16228-1681309800-1681311600@www.cccupr.org
SUMMARY:Facebook Live\, Un Café con el Comprensivo - cáncer de cabeza y cuello
DESCRIPTION:Abril es el mes de concientización del cáncer de cabeza y cuello. Conoce más sobre cómo prevenir\, detectar y tratar estos tipos de cáncer\, conectándote a nuestro Facebook Live\, Un Café con el Comprensivo\, este miércoles 12 de abril\, a las 2:00pm. \nAnota tus dudas\, pues tendremos a la Dra. Lourdes Feliciano\, la Dra. Elba Díaz\, el Dr. Laureano Giráldez\, el Dr. Yamil Castillo Beauchamp\, el Dr. Carlos M. Chévere Mouriño y la Dra. Verónica Vestal Vargas\, para orientarte y contestar tus preguntas.  \nFaceBook Live aqui \nConéctate\, ¡te esperamos!
URL:https://www.cccupr.org/calendario-de-actividades/facebook-live-un-cafe-con-el-comprensivo-cancer-de-cabeza-y-cuello/
LOCATION:FaceBook Live
END:VEVENT
BEGIN:VEVENT
DTSTART;TZID=America/Puerto_Rico:20230422T083000
DTEND;TZID=America/Puerto_Rico:20230422T140000
DTSTAMP:20260423T132301
CREATED:20230314T161359Z
LAST-MODIFIED:20230419T144300Z
UID:16067-1682152200-1682172000@www.cccupr.org
SUMMARY:Simposio educativo para pacientes\, sobrevivientes y sus cuidadores.
DESCRIPTION:El 22 de abril se llevará a cabo un simposio educativo para pacientes\, sobrevivientes y sus cuidadores. Este simposio auspiciado por el Centro Comprensivo de Cáncer\, el Programa de Control Comprensivo de Cáncer y la Coalición para el Control de Cáncer de Puerto Rico. Es libre de costo\, incluye desayuno\, almuerzo y estacionamiento y finalizará con una charla de motivación con Brian Villarini.
URL:https://www.cccupr.org/calendario-de-actividades/simposio-educativo-para-pacientes-sobrevivientes-y-sus-cuidadores/
LOCATION:Centro de Convenciones de Puerto Rico
END:VEVENT
BEGIN:VEVENT
DTSTART;TZID=America/Puerto_Rico:20230423T113000
DTEND;TZID=America/Puerto_Rico:20230423T123000
DTSTAMP:20260423T132301
CREATED:20230421T215910Z
LAST-MODIFIED:20230421T215910Z
UID:16373-1682249400-1682253000@www.cccupr.org
SUMMARY:BeHealth_cuidados paliativos
DESCRIPTION:
URL:https://www.cccupr.org/calendario-de-actividades/behealth_cuidados-paliativos/
END:VEVENT
END:VCALENDAR